View In:
ArcGIS JavaScript
ArcGIS Online Map Viewer
ArcGIS Earth
ArcMap
View Footprint In:
ArcGIS Online Map Viewer
Service Description: Aerial_Imagery/Aerial_Photo_2008_Pictometry
Name: Aerial_Imagery/Aerial_Photo_2008_Pictometry
Description:
Single Fused Map Cache: true
Tile Info:
- Height: 256
- Width: 256
- DPI: 96
-
Levels of Detail: 19
-
Level ID: 0
[ Start Tile, End Tile ]
- Resolution: 256374.11063427932
- Scale: 2.9534356613782203E8
-
Level ID: 1
[ Start Tile, End Tile ]
- Resolution: 128187.05531713966
- Scale: 1.4767178306891102E8
-
Level ID: 2
[ Start Tile, End Tile ]
- Resolution: 64093.52765856983
- Scale: 7.383589153445551E7
-
Level ID: 3
[ Start Tile, End Tile ]
- Resolution: 32046.763829284915
- Scale: 3.6917945767227754E7
-
Level ID: 4
[ Start Tile, End Tile ]
- Resolution: 16023.381914642458
- Scale: 1.8458972883613877E7
-
Level ID: 5
[ Start Tile, End Tile ]
- Resolution: 8011.690957321229
- Scale: 9229486.441806938
-
Level ID: 6
[ Start Tile, End Tile ]
- Resolution: 4005.8454786606144
- Scale: 4614743.220903469
-
Level ID: 7
[ Start Tile, End Tile ]
- Resolution: 2002.9227393303072
- Scale: 2307371.6104517346
-
Level ID: 8
[ Start Tile, End Tile ]
- Resolution: 1001.4613696651536
- Scale: 1153685.8052258673
-
Level ID: 9
[ Start Tile, End Tile ]
- Resolution: 500.7306848325768
- Scale: 576842.9026129337
-
Level ID: 10
[ Start Tile, End Tile ]
- Resolution: 250.3653424162884
- Scale: 288421.4513064668
-
Level ID: 11
[ Start Tile, End Tile ]
- Resolution: 125.1826712081442
- Scale: 144210.7256532334
-
Level ID: 12
[ Start Tile, End Tile ]
- Resolution: 62.5913356040721
- Scale: 72105.3628266167
-
Level ID: 13
[ Start Tile, End Tile ]
- Resolution: 31.29566780203605
- Scale: 36052.68141330835
-
Level ID: 14
[ Start Tile, End Tile ]
- Resolution: 15.647833901018025
- Scale: 18026.340706654177
-
Level ID: 15
[ Start Tile, End Tile ]
- Resolution: 7.8239169505090125
- Scale: 9013.170353327088
-
Level ID: 16
[ Start Tile, End Tile ]
- Resolution: 3.9119584752545062
- Scale: 4506.585176663544
-
Level ID: 17
[ Start Tile, End Tile ]
- Resolution: 1.9559792376272531
- Scale: 2253.292588331772
-
Level ID: 18
[ Start Tile, End Tile ]
- Resolution: 0.9779896188136266
- Scale: 1126.646294165886
- Format: PNG
- Compression Quality: 0.0
- LERC Error: NaN
- Origin: X: -3.2335886161187753E7
Y: 1.757437182334675E7
- Spatial Reference: 103453
(8128)
Storage Info:
- Storage Format: esriMapCacheStorageModeCompactV2
- Packet Size: 128
Extent:
XMin: 476992.6055652233
YMin: 240548.04269893997
XMax: 521601.6055652233
YMax: 299940.04269894
Spatial Reference: 103453
(8128)
Initial Extent:
XMin: 476992.6055652233
YMin: 240548.04269893997
XMax: 521601.6055652233
YMax: 299940.04269894
Spatial Reference: 103453
(8128)
Full Extent:
XMin: 476992.6055652233
YMin: 240548.04269893997
XMax: 521601.6055652233
YMax: 299940.04269894
Spatial Reference: 103453
(8128)
Pixel Size X: 1.0
Pixel Size Y: 1.0
Band Count: 3
Pixel Type: U8
RasterFunction Infos: {"rasterFunctionInfos": [{
"name": "None",
"description": "",
"help": ""
}]}
Mensuration Capabilities: Basic
Has Histograms: true
Has Colormap: false
Has Multi Dimensions : false
Rendering Rule:
Min Scale: 72105.3628266167
Max Scale: 1126.646294165886
Min LOD: 12
Max LOD: 18
Copyright Text:
Service Data Type: esriImageServiceDataTypeRGB
Min Values: 0, 0, 0
Max Values: 255, 255, 255
Mean Values: 144.99955355173375, 131.68093124269458, 114.92176725039974
Standard Deviation Values: 40.18917868903497, 40.05435723392479, 45.15482768530139
Object ID Field:
Fields:
None
Default Mosaic Method: Center
Allowed Mosaic Methods:
SortField:
SortValue: null
Mosaic Operator: First
Default Compression Quality: 75
Default Resampling Method: Bilinear
Max Record Count: null
Max Image Height: 4100
Max Image Width: 15000
Max Download Image Count: null
Max Mosaic Image Count: null
Allow Raster Function: true
Allow Copy: true
Allow Analysis: true
Allow Compute TiePoints: false
Supports Statistics: false
Supports Advanced Queries: false
Use StandardizedQueries: true
Raster Type Infos:
Name: Raster Dataset
Description: Supports all ArcGIS Raster Datasets
Help:
Has Raster Attribute Table: false
Edit Fields Info: null
Ownership Based AccessControl For Rasters: null
Child Resources:
Info
Histograms
Statistics
Key Properties
Legend
Raster Function Infos
Supported Operations:
Export Image
Identify
Measure
Compute Histograms
Compute Statistics Histograms
Get Samples
Compute Class Statistics
Query Boundary
Compute Pixel Location
Compute Angles
Validate
Project