{
 "currentVersion": 10.91,
 "serviceDescription": "Aerial_Imagery/Aerial_Photo_2011",
 "name": "Aerial_Imagery/Aerial_Photo_2011",
 "description": "",
 "extent": {
  "xmin": 474634.0090180405,
  "ymin": 238407.03858929622,
  "xmax": 517274.0090180405,
  "ymax": 297380.5385892962,
  "spatialReference": {
   "wkid": 103453,
   "latestWkid": 8128
  }
 },
 "initialExtent": {
  "xmin": 474634.0090180405,
  "ymin": 238407.03858929622,
  "xmax": 517274.0090180405,
  "ymax": 297380.5385892962,
  "spatialReference": {
   "wkid": 103453,
   "latestWkid": 8128
  }
 },
 "fullExtent": {
  "xmin": 474634.0090180405,
  "ymin": 238407.03858929622,
  "xmax": 517274.0090180405,
  "ymax": 297380.5385892962,
  "spatialReference": {
   "wkid": 103453,
   "latestWkid": 8128
  }
 },
 "hasMultidimensions": false,
 "pixelSizeX": 0.5,
 "pixelSizeY": 0.5,
 "datasetFormat": "SDR",
 "uncompressedSize": 30175560480,
 "blockWidth": 128,
 "blockHeight": 128,
 "compressionType": "LZ77",
 "bandNames": [
  "Band_1",
  "Band_2",
  "Band_3"
 ],
 "allowCopy": true,
 "allowAnalysis": true,
 "bandCount": 3,
 "pixelType": "U8",
 "minPixelSize": 0.9779896188136266,
 "maxPixelSize": 125.1826712081442,
 "copyrightText": "",
 "serviceDataType": "esriImageServiceDataTypeRGB",
 "serviceSourceType": "esriImageServiceSourceTypeDataset",
 "minValues": [
  0,
  0,
  0
 ],
 "maxValues": [
  255,
  255,
  255
 ],
 "meanValues": [
  110.86756947099627,
  99.69069945172592,
  87.19069653450074
 ],
 "stdvValues": [
  33.64966331199764,
  34.0355982893341,
  33.76706472968756
 ],
 "objectIdField": "",
 "fields": [],
 "capabilities": "Image,Metadata,Mensuration",
 "defaultMosaicMethod": "Center",
 "allowedMosaicMethods": "",
 "sortField": "",
 "sortValue": null,
 "sortAscending": true,
 "mosaicOperator": "First",
 "defaultCompressionQuality": 75,
 "defaultResamplingMethod": "Bilinear",
 "maxImageHeight": 4100,
 "maxImageWidth": 15000,
 "singleFusedMapCache": true,
 "tileInfo": {
  "rows": 256,
  "cols": 256,
  "dpi": 96,
  "format": "PNG",
  "compressionQuality": 0,
  "origin": {
   "x": -3.2335886161187753E7,
   "y": 1.757437182334675E7
  },
  "spatialReference": {
   "wkid": 103453,
   "latestWkid": 8128
  },
  "lods": [
   {
    "level": 0,
    "resolution": 256374.11063427932,
    "scale": 2.9534356613782203E8
   },
   {
    "level": 1,
    "resolution": 128187.05531713966,
    "scale": 1.4767178306891102E8
   },
   {
    "level": 2,
    "resolution": 64093.52765856983,
    "scale": 7.383589153445551E7
   },
   {
    "level": 3,
    "resolution": 32046.763829284915,
    "scale": 3.6917945767227754E7
   },
   {
    "level": 4,
    "resolution": 16023.381914642458,
    "scale": 1.8458972883613877E7
   },
   {
    "level": 5,
    "resolution": 8011.690957321229,
    "scale": 9229486.441806938
   },
   {
    "level": 6,
    "resolution": 4005.8454786606144,
    "scale": 4614743.220903469
   },
   {
    "level": 7,
    "resolution": 2002.9227393303072,
    "scale": 2307371.6104517346
   },
   {
    "level": 8,
    "resolution": 1001.4613696651536,
    "scale": 1153685.8052258673
   },
   {
    "level": 9,
    "resolution": 500.7306848325768,
    "scale": 576842.9026129337
   },
   {
    "level": 10,
    "resolution": 250.3653424162884,
    "scale": 288421.4513064668
   },
   {
    "level": 11,
    "resolution": 125.1826712081442,
    "scale": 144210.7256532334
   },
   {
    "level": 12,
    "resolution": 62.5913356040721,
    "scale": 72105.3628266167
   },
   {
    "level": 13,
    "resolution": 31.29566780203605,
    "scale": 36052.68141330835
   },
   {
    "level": 14,
    "resolution": 15.647833901018025,
    "scale": 18026.340706654177
   },
   {
    "level": 15,
    "resolution": 7.8239169505090125,
    "scale": 9013.170353327088
   },
   {
    "level": 16,
    "resolution": 3.9119584752545062,
    "scale": 4506.585176663544
   },
   {
    "level": 17,
    "resolution": 1.9559792376272531,
    "scale": 2253.292588331772
   },
   {
    "level": 18,
    "resolution": 0.9779896188136266,
    "scale": 1126.646294165886
   }
  ]
 },
 "storageInfo": {
  "storageFormat": "esriMapCacheStorageModeCompactV2",
  "packetSize": 128
 },
 "cacheType": "Map",
 "allowRasterFunction": true,
 "rasterFunctionInfos": [
  {
   "name": "None",
   "description": "",
   "help": ""
  }
 ],
 "rasterTypeInfos": [
  {
   "name": "Raster Dataset",
   "description": "Supports all ArcGIS Raster Datasets",
   "help": ""
  }
 ],
 "mensurationCapabilities": "Basic",
 "hasHistograms": true,
 "hasColormap": false,
 "hasRasterAttributeTable": false,
 "minScale": 144210.7256532334,
 "maxScale": 1126.646294165886,
 "minLOD": 11,
 "maxLOD": 18,
 "exportTilesAllowed": false,
 "supportsStatistics": false,
 "supportsAdvancedQueries": false,
 "editFieldsInfo": null,
 "ownershipBasedAccessControlForRasters": null,
 "allowComputeTiePoints": false,
 "useStandardizedQueries": true,
 "advancedQueryCapabilities": {
  "useStandardizedQueries": true,
  "supportsStatistics": false,
  "supportsOrderBy": false,
  "supportsDistinct": false,
  "supportsPagination": false
 },
 "spatialReference": {
  "wkid": 103453,
  "latestWkid": 8128
 }
}
